BEGIN:VCALENDAR
PRODID:-//Microsoft Corporation//Outlook 12.0 MIMEDIR//EN
VERSION:2.0
CALSCALE:GREGORIAN
BEGIN:VEVENT
UID: d52b2cae-c6b0-49ef-a207-6e9a1eb5758f
SUMMARY:5.kl õpioskuste talgute piirkonnavoor
DTSTAMP:20260421T100000
DTSTART:20260421T100000
DTEND:20260421T130000
LOCATION:Ruum 313
DESCRIPTION: <p>&nbsp;<br>Õpioskuste talgud (TLÜ) <a href="https://www.tlu.ee/hti/opioskuste-talgud">https://www.tlu.ee/hti/opioskuste-talgud</a></p><p><strong>Link: </strong>https://www.hariduse.edu.ee/et/sundmuste-kalender/5kl-opioskuste-talgute-piirkonnavoor</p><p><strong>Hind: </strong></p>
STATUS:CONFIRMED
SEQUENCE:3
X-ALT-DESC;FMTTYPE=text/html:<p>&nbsp;<br>Õpioskuste talgud (TLÜ) <a href="https://www.tlu.ee/hti/opioskuste-talgud">https://www.tlu.ee/hti/opioskuste-talgud</a></p><p><strong>Link: </strong>https://www.hariduse.edu.ee/et/sundmuste-kalender/5kl-opioskuste-talgute-piirkonnavoor</p><p><strong>Hind: </strong></p>
X-MICROSOFT-CDO-BUSYSTATUS:OOF
X-MICROSOFT-CDO-IMPORTANCE:1
X-MICROSOFT-DISALLOW-COUNTER:FALSE
X-MS-OLK-ALLOWEXTERNCHECK:TRUE
X-MS-OLK-CONFTYPE:0
X-MICROSOFT-CDO-ALLDAYEVENT:
X-MICROSOFT-MSNCALENDAR-ALLDAYEVENT:
END:VEVENT
END:VCALENDAR